BEGIN:VCALENDAR
VERSION:2.0
PRODID:-//Village of Franklin NY - ECPv6.15.20//NONSGML v1.0//EN
CALSCALE:GREGORIAN
METHOD:PUBLISH
X-ORIGINAL-URL:https://villageoffranklinny.gov
X-WR-CALDESC:Events for Village of Franklin NY
REFRESH-INTERVAL;VALUE=DURATION:PT1H
X-Robots-Tag:noindex
X-PUBLISHED-TTL:PT1H
BEGIN:VTIMEZONE
TZID:America/New_York
BEGIN:DAYLIGHT
TZOFFSETFROM:-0500
TZOFFSETTO:-0400
TZNAME:EDT
DTSTART:20250309T070000
END:DAYLIGHT
BEGIN:STANDARD
TZOFFSETFROM:-0400
TZOFFSETTO:-0500
TZNAME:EST
DTSTART:20251102T060000
END:STANDARD
BEGIN:DAYLIGHT
TZOFFSETFROM:-0500
TZOFFSETTO:-0400
TZNAME:EDT
DTSTART:20260308T070000
END:DAYLIGHT
BEGIN:STANDARD
TZOFFSETFROM:-0400
TZOFFSETTO:-0500
TZNAME:EST
DTSTART:20261101T060000
END:STANDARD
BEGIN:DAYLIGHT
TZOFFSETFROM:-0500
TZOFFSETTO:-0400
TZNAME:EDT
DTSTART:20270314T070000
END:DAYLIGHT
BEGIN:STANDARD
TZOFFSETFROM:-0400
TZOFFSETTO:-0500
TZNAME:EST
DTSTART:20271107T060000
END:STANDARD
END:VTIMEZONE
BEGIN:VEVENT
DTSTART;TZID=America/New_York:20260413T190000
DTEND;TZID=America/New_York:20260413T190000
DTSTAMP:20260424T222730
CREATED:20260101T160058Z
LAST-MODIFIED:20260413T132500Z
UID:1575-1776106800-1776106800@villageoffranklinny.gov
SUMMARY:Village Board and Public Hearings
DESCRIPTION:Regular Village Board Meeting & Public Hearings\n\n\n\nThree Public Hearings of the Franklin Village Board will be held Monday\, April 13\, 2026\, at 7:00 PM at Village Hall\, 141 Water Street\, for the purpose of public comment on: \n\n\n\n\nThe 2026-2027 proposed Village Budget\n\n\n\nRestore NY grant SEQR\n\n\n\nReimbursement Anticipation Note from Wayne Bank\n\n\n\n\nThe meeting will be streamed and recorded on Zoom.  For access to the Zoom meeting\, please contact the Village Clerk at 607-829-6776 or clerk@villageoffranklinny.us
URL:https://villageoffranklinny.gov/event/village-board-04-2026/
LOCATION:Village Hall\, 141 Water Street\, Franklin\, New York\, 13775
END:VEVENT
BEGIN:VEVENT
DTSTART;TZID=America/New_York:20260309T190000
DTEND;TZID=America/New_York:20260309T190000
DTSTAMP:20260424T222730
CREATED:20260101T160003Z
LAST-MODIFIED:20260101T160005Z
UID:1573-1773082800-1773082800@villageoffranklinny.gov
SUMMARY:Village Board
DESCRIPTION:Regular Village Board Meeting \n\n\n\nThe public may attend in person or via Zoom. To obtain the Zoom link\, please contact the Village Clerk at 607-829-6776 or clerk@villageoffranklinny.us
URL:https://villageoffranklinny.gov/event/village-board-03-2026/
LOCATION:Village Hall\, 141 Water Street\, Franklin\, New York\, 13775
END:VEVENT
BEGIN:VEVENT
DTSTART;TZID=America/New_York:20260209T190000
DTEND;TZID=America/New_York:20260209T190000
DTSTAMP:20260424T222730
CREATED:20260101T155844Z
LAST-MODIFIED:20260101T155848Z
UID:1571-1770663600-1770663600@villageoffranklinny.gov
SUMMARY:Village Board
DESCRIPTION:Regular Village Board Meeting \n\n\n\nThe public may attend in person or via Zoom. To obtain the Zoom link\, please contact the Village Clerk at 607-829-6776 or clerk@villageoffranklinny.us
URL:https://villageoffranklinny.gov/event/village-board-02-2026/
LOCATION:Village Hall\, 141 Water Street\, Franklin\, New York\, 13775
END:VEVENT
BEGIN:VEVENT
DTSTART;TZID=America/New_York:20260112T190000
DTEND;TZID=America/New_York:20260112T190000
DTSTAMP:20260424T222730
CREATED:20251231T235729Z
LAST-MODIFIED:20251231T235731Z
UID:1569-1768244400-1768244400@villageoffranklinny.gov
SUMMARY:Village Board
DESCRIPTION:Regular Village Board Meeting \n\n\n\nThe public may attend in person or via Zoom. To obtain the Zoom link\, please contact the Village Clerk at 607-829-6776 or clerk@villageoffranklinny.us
URL:https://villageoffranklinny.gov/event/village-board-01-2026/
LOCATION:Village Hall\, 141 Water Street\, Franklin\, New York\, 13775
END:VEVENT
END:VCALENDAR